BEGIN:VCALENDAR
VERSION:2.0
PRODID:-//Freizeitzentrum Lugau - ECPv6.15.20//NONSGML v1.0//EN
CALSCALE:GREGORIAN
METHOD:PUBLISH
X-ORIGINAL-URL:https://www.freizeitzentrum-lugau.de
X-WR-CALDESC:Veranstaltungen für Freizeitzentrum Lugau
REFRESH-INTERVAL;VALUE=DURATION:PT1H
X-Robots-Tag:noindex
X-PUBLISHED-TTL:PT1H
BEGIN:VTIMEZONE
TZID:Europe/Berlin
BEGIN:DAYLIGHT
TZOFFSETFROM:+0100
TZOFFSETTO:+0200
TZNAME:CEST
DTSTART:20250330T010000
END:DAYLIGHT
BEGIN:STANDARD
TZOFFSETFROM:+0200
TZOFFSETTO:+0100
TZNAME:CET
DTSTART:20251026T010000
END:STANDARD
BEGIN:DAYLIGHT
TZOFFSETFROM:+0100
TZOFFSETTO:+0200
TZNAME:CEST
DTSTART:20260329T010000
END:DAYLIGHT
BEGIN:STANDARD
TZOFFSETFROM:+0200
TZOFFSETTO:+0100
TZNAME:CET
DTSTART:20261025T010000
END:STANDARD
BEGIN:DAYLIGHT
TZOFFSETFROM:+0100
TZOFFSETTO:+0200
TZNAME:CEST
DTSTART:20270328T010000
END:DAYLIGHT
BEGIN:STANDARD
TZOFFSETFROM:+0200
TZOFFSETTO:+0100
TZNAME:CET
DTSTART:20271031T010000
END:STANDARD
END:VTIMEZONE
BEGIN:VEVENT
DTSTART;TZID=Europe/Berlin:20260529T190000
DTEND;TZID=Europe/Berlin:20260529T190000
DTSTAMP:20260420T120308
CREATED:20221115T165834Z
LAST-MODIFIED:20251208T194920Z
UID:1489-1780081200-1780081200@www.freizeitzentrum-lugau.de
SUMMARY:Dixieland aus Neuwies
DESCRIPTION:Dixieland- und Jazz-Konzert mit New Meadows: \nEuropas größtes Jazzfestival\, das Dixieland Dresden\, das kennen alle. Aber das nur eine Autostunde entfernte Neuwiese (engl.: new meadows) das kennt nicht mal Google Maps.  Handelt es sich doch „nur“ um den Ortsteil eines Ortsteils der Stadt Oelsnitz/Erzgebirge. Aber auch dort wird seit fast 30 Jahren Dixieland-Jazz gepflegt und gefeiert. Aus einer (eventuell feuchtfröhlichen) Laune heraus formierten Mitglieder der Tanzmusikkapelle „Bernd-Herzig-Formation“ (später: „prolive“) um 1996 ein kleines Feierabend-Nebenprojekt\, in dem sie zur Musik aus New Orleans freestylten. Die Sache fand schnell Freunde\, die New Meadows waren geboren. Heute spielen sie im ganzen Erzgebirge\, wo immer man handgemachte Dixielandmusik mit viel guter Laune zu schätzen weiß. \nEintritt: 20 EUR / erm. 18 EUR \nTickets unter Tel. 037295 2486
URL:https://www.freizeitzentrum-lugau.de/event/dixieland-aus-neuwies/
LOCATION:Kultur-und Freizeitzentrum Lugau\, Fabrikgäßchen 8\, Lugau\, 09385\, Deutschland
CATEGORIES:Konzerte, Kabarett und Lesungen
ATTACH;FMTTYPE=image/jpeg:https://www.freizeitzentrum-lugau.de/wp-content/uploads/2022/11/new_meadows.jpg
END:VEVENT
BEGIN:VEVENT
DTSTART;TZID=Europe/Berlin:20260628T200000
DTEND;TZID=Europe/Berlin:20260628T200000
DTSTAMP:20260420T120308
CREATED:20221115T170930Z
LAST-MODIFIED:20260417T081204Z
UID:1499-1782676800-1782676800@www.freizeitzentrum-lugau.de
SUMMARY:Sommer-Konzert
DESCRIPTION:– VERLEGT VOM 26. AUF DEN 28. JUNI – \nSommer-Konzert der Erzgebirgischen Philharmonie Aue: \nDie Erzgebirgische Philharmonie Aue öffnet in diesem Sommer erneut ihr klingendes Panorama und lädt zu einem Abend ein\, der Leichtigkeit\, Glanz und Entdeckungsfreude vereint. Aus Oper und Operette\, aus italienischer Brillanz\, französischer Eleganz und mitreißenden Tänzen entsteht ein Programm\, das die Vielfalt Europas in musikalische Farben taucht. Strauß’ schwungvolle Ouvertüre zu „Eine Nacht in Venedig“\, Donizettis strahlende Belcanto-Kunst oder Mendelssohns poetisches Nocturne aus seiner „Sommernachtstraum-Musik“ – all diese Klangwelten verweben sich zu einem Abend\, der Herz und Sinne öffnet. Dazu gesellen sich charmante Raritäten wie Luigis Arditis berühmter Gesangswalzer „Il bacio“\, die temperamentvolle Mazurka aus Stanisław Moniuszkos Nationaloper „Halka“ sowie Kostbarkeiten aus der heiteren Welt der Operette. Mit dieser Mischung aus bekannten Höhepunkten und reizvollen Entdeckungen feiert die Philharmonie die Schönheit des Sommers: farbenreich\, lebensfroh und voller musikalischer Leichtigkeit. Ein Konzert\, das den Zauber warmer Abende im Erzgebirge auf unverwechselbare Weise zum Klingen bringt. \n20 EUR / erm. 18 EUR \nTickets unter Tel. 037295 2486
URL:https://www.freizeitzentrum-lugau.de/event/sommer-konzert/
LOCATION:Mehrzweckhalle Lugau\, Am Bahnhof 4a\, Lugau/Erzgebirge\, Sachsen\, 09385\, Germany
CATEGORIES:Konzerte, Kabarett und Lesungen
ATTACH;FMTTYPE=image/jpeg:https://www.freizeitzentrum-lugau.de/wp-content/uploads/2022/11/philharmonie_aue2.jpg
END:VEVENT
BEGIN:VEVENT
DTSTART;TZID=Europe/Berlin:20260723T100000
DTEND;TZID=Europe/Berlin:20260723T100000
DTSTAMP:20260420T120308
CREATED:20230524T190108Z
LAST-MODIFIED:20260417T081554Z
UID:1562-1784800800-1784800800@www.freizeitzentrum-lugau.de
SUMMARY:Der Magier vom Waldbad
DESCRIPTION:Treff um 10 Uhr am Parkplatz hinter der Stadthalle Oelsnitz/Erzgeb. (Innere Neuwieser Str. 5) \nDie Bürger der Stadt Oelsnitz sind besorgt\, denn seit einiger Zeit steigt Dampf von der Deutschland-Schachthalde auf. Die Wanderer brechen auf\, um herauszufinden\, ob vielleicht der gewiefte Magier Hokus Pokus mit seinen Zaubertricks dahinter steckt. \nPreis: 5 Euro pro Person (inkl. Bratwurst und Wasser oder Limonade) \nBitte unbedingt telefonisch anmelden unter 037295 2486.
URL:https://www.freizeitzentrum-lugau.de/event/der-magier-vom-waldbad/
LOCATION:Kultur-und Freizeitzentrum Lugau\, Fabrikgäßchen 8\, Lugau\, 09385\, Deutschland
CATEGORIES:Kinder- und Familienveranstaltungen
ATTACH;FMTTYPE=image/jpeg:https://www.freizeitzentrum-lugau.de/wp-content/uploads/2023/05/20_Jahre_Abenteuer.jpg
END:VEVENT
BEGIN:VEVENT
DTSTART;TZID=Europe/Berlin:20260724T190000
DTEND;TZID=Europe/Berlin:20260724T190000
DTSTAMP:20260420T120308
CREATED:20250212T203532Z
LAST-MODIFIED:20251208T201103Z
UID:1747-1784919600-1784919600@www.freizeitzentrum-lugau.de
SUMMARY:Der unvergessene Sound der Sixties
DESCRIPTION:Beatles\, Flower Power und Sixties-Sound mit den Strawberries: \nDie Strawberries gelten als „Westsachsens Antwort auf die Beatles“ und geben ihr Bestes\, diesem Ruf gerecht zu werden. Sie spielen den Beatles-Sound der frühen Jahre\, Flower-Power und eigene Stücke im Sixties-Sound. Für einen Abend kehren die „Roaring Sixties“ zurück! \n20 EUR / erm. 18 EUR \nTickets unter Tel. 037295 2486
URL:https://www.freizeitzentrum-lugau.de/event/der-unvergessene-sound-der-sixties/
LOCATION:Kultur-und Freizeitzentrum Lugau\, Fabrikgäßchen 8\, Lugau\, 09385\, Deutschland
CATEGORIES:Konzerte, Kabarett und Lesungen
ATTACH;FMTTYPE=image/jpeg:https://www.freizeitzentrum-lugau.de/wp-content/uploads/2025/02/strawberries_2.jpg
END:VEVENT
BEGIN:VEVENT
DTSTART;TZID=Europe/Berlin:20260725T190000
DTEND;TZID=Europe/Berlin:20260725T190000
DTSTAMP:20260420T120308
CREATED:20221115T170126Z
LAST-MODIFIED:20251209T093056Z
UID:1493-1785006000-1785006000@www.freizeitzentrum-lugau.de
SUMMARY:Country\, Rock\, Folk & Oldies
DESCRIPTION:Country\, Rock\, Folk & Oldies – Konzert mit Pro Musicum: \nPro Musicum – die Countryband aus dem Erzgebirge! Seit 1973 ist die Gruppe unterwegs\, nicht nur im schönen Erzgebirge\, auch im restlichen Sachsen sowie in Thüringen und Brandenburg. Das Repertoire reicht von Oldies der sechziger und siebziger Jahre\, amerikanischen Folksongs\, Country- und Western sowie aktuellen Rocksongs bis hin zu eigenen Liedern. Trotz wechselnder Besetzungen ist es Pro Musicum – kurz Pro M genannt – immer wieder gelungen\, bei vielen Auftritten auch mit deutschen und internationalen Stars der Countrymusic\, die Region Erzgebirge würdig zu vertreten. Künstler wie Bellami Brothers\, Larry Schuba & Western Union\, Tom Astor und viele andere mehr waren Partner bei großen Festivals\, zum Beispiel auf den Greifensteinen bei Ehrenfriedersdorf oder im Kulturpalast in Dresden. \n20 EUR / erm. 18 EUR \nTickets unter Tel. 037295 2486
URL:https://www.freizeitzentrum-lugau.de/event/country-rock-folk-oldies-konzerte/
LOCATION:Kultur-und Freizeitzentrum Lugau\, Fabrikgäßchen 8\, Lugau\, 09385\, Deutschland
CATEGORIES:Konzerte, Kabarett und Lesungen
ATTACH;FMTTYPE=image/jpeg:https://www.freizeitzentrum-lugau.de/wp-content/uploads/2022/11/pro_musicum.jpg
END:VEVENT
BEGIN:VEVENT
DTSTART;TZID=Europe/Berlin:20260802T093000
DTEND;TZID=Europe/Berlin:20260802T093000
DTSTAMP:20260420T120308
CREATED:20221117T104830Z
LAST-MODIFIED:20251208T202918Z
UID:1525-1785663000-1785663000@www.freizeitzentrum-lugau.de
SUMMARY:80. Erlebniswanderung - Sommerwanderung
DESCRIPTION:Der Floßgraben in Aue-Bad Schlema \nTreff um 9:30 Uhr am Anton-Günther-Platz\, Lessingstraße 15 in Aue \nAlle Freunde der Natur sind herzlich eingeladen\, die reizvolle Umgebung zu genießen und die Seele baumeln zu lassen. Entdecken Sie Sehenswertes auf den erlebnisreichen Wandertouren. Erkunden Sie bei den Wanderangeboten eine Vielzahl von Ausflugszielen und belohnen Sie sich mit herrlichen Aussichten und Erlebnissen. Die Erlebniswanderungen werden von Wanderführern und Sanitätern begleitet und sind thematisch gut organisierte Gruppenwanderungen mit vielen Besonderheiten und hohem Informationsgehalt. \nDer Kostenbeitrag beträgt 3 Euro pro Person und Wanderung (Kinder bis 12 Jahre wandern kostenlos mit\, Verpflegung nicht inbegriffen). Sanitäter und erfahrene Wanderführer begleiten die Touren. Es ist keine Anmeldung erforderlich. \nUnsere Erlebniswanderungen finden in Kooperation mit der Freien Presse Stollberg statt.
URL:https://www.freizeitzentrum-lugau.de/event/sommerwanderung/
CATEGORIES:Erlebniswanderungen
ATTACH;FMTTYPE=image/jpeg:https://www.freizeitzentrum-lugau.de/wp-content/uploads/2023/12/sommerwanderung.jpg
END:VEVENT
BEGIN:VEVENT
DTSTART;TZID=Europe/Berlin:20260808T143000
DTEND;TZID=Europe/Berlin:20260808T143000
DTSTAMP:20260420T120308
CREATED:20221115T165120Z
LAST-MODIFIED:20251208T201029Z
UID:1486-1786199400-1786199400@www.freizeitzentrum-lugau.de
SUMMARY:Irre Zeiten - Wenn Puppen am Zeiger drehen ...
DESCRIPTION:Freche Bauchredner-Show mit Roy Reinker: \nBauchredner Roy Reinker reist mit seinen Puppen durch die Zeit und lässt kein Auge trocken. Opa Siggi landet in der DDR und durchleidet erneut seine Eheschließung. Norbert jagt als Neandertaler Mamuts und Mamas. Kleopatra lästert über Cäsar und andere Eunuchen und Götterbote Hermes suchte schon damals seine Pakete. „Irre Zeiten!“ ist eine rasante Multimedia-Show voller Gags\, Gaga und verrückter Geschichte. Erleben Sie gnadenlosen Humor\, schrägen Puppen und ein Baby\, ein Raumschiff und ein stotternden Bordcomputer mit Burn out. \n20 EUR / erm. 18 EUR \nTickets unter Tel. 037295 2486
URL:https://www.freizeitzentrum-lugau.de/event/irre-zeiten/
LOCATION:Kultur-und Freizeitzentrum Lugau\, Fabrikgäßchen 8\, Lugau\, 09385\, Deutschland
CATEGORIES:Konzerte, Kabarett und Lesungen
ATTACH;FMTTYPE=image/jpeg:https://www.freizeitzentrum-lugau.de/wp-content/uploads/2022/11/r_reinker.jpg
END:VEVENT
BEGIN:VEVENT
DTSTART;TZID=Europe/Berlin:20260808T190000
DTEND;TZID=Europe/Berlin:20260808T190000
DTSTAMP:20260420T120308
CREATED:20221117T102922Z
LAST-MODIFIED:20251208T201010Z
UID:1512-1786215600-1786215600@www.freizeitzentrum-lugau.de
SUMMARY:Irre Zeiten – Wenn Puppen am Zeiger drehen …
DESCRIPTION:Freche Bauchredner-Show mit Roy Reinker: \nBauchredner Roy Reinker reist mit seinen Puppen durch die Zeit und lässt kein Auge trocken. Opa Siggi landet in der DDR und durchleidet erneut seine Eheschließung. Norbert jagt als Neandertaler Mamuts und Mamas. Kleopatra lästert über Cäsar und andere Eunuchen und Götterbote Hermes suchte schon damals seine Pakete. „Irre Zeiten!“ ist eine rasante Multimedia-Show voller Gags\, Gaga und verrückter Geschichte. Erleben Sie gnadenlosen Humor\, schrägen Puppen und ein Baby\, ein Raumschiff und ein stotternden Bordcomputer mit Burn out. \n20 EUR / erm. 18 EUR \nTickets unter Tel. 037295 2486
URL:https://www.freizeitzentrum-lugau.de/event/irre-zeiten-2/
LOCATION:Kultur-und Freizeitzentrum Lugau\, Fabrikgäßchen 8\, Lugau\, 09385\, Deutschland
CATEGORIES:Konzerte, Kabarett und Lesungen
ATTACH;FMTTYPE=image/jpeg:https://www.freizeitzentrum-lugau.de/wp-content/uploads/2022/11/r_reinker.jpg
END:VEVENT
BEGIN:VEVENT
DTSTART;TZID=Europe/Berlin:20260813T100000
DTEND;TZID=Europe/Berlin:20260813T100000
DTSTAMP:20260420T120308
CREATED:20230524T193533Z
LAST-MODIFIED:20260417T081716Z
UID:1571-1786615200-1786615200@www.freizeitzentrum-lugau.de
SUMMARY:Auf der Suche nach der Rathaus-Glocke
DESCRIPTION:Treff um 10 Uhr am Kultur- und Freizeitzentrum Lugau \nSeit geraumer Zeit erklingt die Lugauer Rathaus-Glocke nicht mehr. Die Bewohner sind besorgt und traurig. Durch einen Brief wird bekannt\, dass Räuber die Glocke gestohlen haben! \nPreis: 5 Euro pro Person (inkl. Bratwurst und Wasser oder Limonade) \nBitte unbedingt telefonisch anmelden unter 037295 2486.
URL:https://www.freizeitzentrum-lugau.de/event/rathaus-glocke/
CATEGORIES:Kinder- und Familienveranstaltungen
ATTACH;FMTTYPE=image/jpeg:https://www.freizeitzentrum-lugau.de/wp-content/uploads/2023/05/20_Jahre_Abenteuer.jpg
END:VEVENT
BEGIN:VEVENT
DTSTART;TZID=Europe/Berlin:20260918T190000
DTEND;TZID=Europe/Berlin:20260918T190000
DTSTAMP:20260420T120308
CREATED:20221117T103311Z
LAST-MODIFIED:20251208T200946Z
UID:1515-1789758000-1789758000@www.freizeitzentrum-lugau.de
SUMMARY:Hommage an Simon & Garfunkel
DESCRIPTION:Konzert mit dem Duo Graceland: \nNahe am Original\, ohne zu kopieren! Mit dem nötigen Respekt vor den großen Kompositionen und dem Anspruch an sich selbst\, musikalisch hochwertige Interpretationen der Welthits von Simon & Garfunkel zu bieten: Das ist das Simon & Garfunkel Tribute Duo. Thomas Wacker und Thorsten Gary\, die mit ihren Gitarren und Stimmen seit Jahren in Deutschland unterwegs sind und die Konzertbesucher mit den bekannten Klassikern begeistern. \n20 EUR / erm. 18 EUR \nTickets unter Tel. 037295 2486
URL:https://www.freizeitzentrum-lugau.de/event/hommage-an-simon-garfunkel/
LOCATION:Kultur-und Freizeitzentrum Lugau\, Fabrikgäßchen 8\, Lugau\, 09385\, Deutschland
CATEGORIES:Konzerte, Kabarett und Lesungen
ATTACH;FMTTYPE=image/jpeg:https://www.freizeitzentrum-lugau.de/wp-content/uploads/2022/11/graceland_2.jpg
END:VEVENT
BEGIN:VEVENT
DTSTART;TZID=Europe/Berlin:20260919T190000
DTEND;TZID=Europe/Berlin:20260919T190000
DTSTAMP:20260420T120308
CREATED:20221115T171226Z
LAST-MODIFIED:20251208T201439Z
UID:1503-1789844400-1789844400@www.freizeitzentrum-lugau.de
SUMMARY:Doof sein ist schön!
DESCRIPTION:Kabarett mit der „Kaktusblüte“ aus Dresden: \nDie Zeiten ändern sich\, mal mehr\, mal weniger – und so widmet sich das Dresdner Kabarett „Die Kaktusblüte“ diesmal erneut Themen\, bei denen die große Politik und der alltägliche Schwachsinn aufeinandertreffen. Der Titel des Programms darf dabei gern doppeldeutig gesehen werden. Es gibt Dinge\, die so unsinnig sind\, dass sie einfach wegwischt werden sollten\, und es gibt Dinge\, die bewusst unter den Teppich gekehrt werden. Die Kunst des Umgangs miteinander ist heute wirklich zu einer Kunst geworden und so dreht sich das Programm unter anderem um Bildung und Schule und den damit verbundenen Auswüchsen in unserer Gesellschaft. Ganz nach dem Motto: Wer nach allen Seiten offen ist\, kann nicht ganz dicht sein. Wie immer ist das Ganze stachlig und scharfzüngig\, humorvoll und hintergründig\, einfach eine aktuelle Bestandsaufnahme\, da der Alltag und die Politik immer wieder versuchen\, das Kabarett zu überholen. \n20 EUR / erm. 18 EUR \nTickets unter Tel. 037295 2486
URL:https://www.freizeitzentrum-lugau.de/event/doof-sein-ist-schoen/
LOCATION:Kultur-und Freizeitzentrum Lugau\, Fabrikgäßchen 8\, Lugau\, 09385\, Deutschland
CATEGORIES:Konzerte, Kabarett und Lesungen
ATTACH;FMTTYPE=image/jpeg:https://www.freizeitzentrum-lugau.de/wp-content/uploads/2022/11/kaktusbluete.jpg
END:VEVENT
BEGIN:VEVENT
DTSTART;TZID=Europe/Berlin:20261009T190000
DTEND;TZID=Europe/Berlin:20261009T190000
DTSTAMP:20260420T120308
CREATED:20231214T135814Z
LAST-MODIFIED:20251208T201727Z
UID:1615-1791572400-1791572400@www.freizeitzentrum-lugau.de
SUMMARY:Heiter scheitern
DESCRIPTION:Humorvolle Lesung mit Jan Lipowski: \nGanz klar: „Lachen ist die beste Medizin!“ und alle Ne­­benwirkungen sind wün­schens­wert. Getreu dem Mot­­to: „Es soll keiner so wenig Wein trin­ken\, dass er seiner Ge­sundheit schadet“ (Marc Aurel) finden sich hier zahl­reiche Alltagsgegengifte – Ge­schichten vol­ler Hu­mor\, Selbstironie und Lebens­­­klug­heit. Jan Lipowski schreibt und liest amüsant\, mit Schwung\, sen­sibel und lebensnah und widmet sich so essentiellen Fragen wie: Was ist schlim­mer: zu früh oder zu spät heim­­kom­men? Wann muss man putzen? Welche Ge­fahren lauern im Su­per­markt? Wohin führt ein nächtlicher Anruf bei der Chefsekretärin? Wozu Sport Ü50 und wie ge­hen Män­ner mit ersten Alters­erscheinungen\, schmutzigen Toi­let­ten oder einer Hopfen­allergie um? \n20 EUR / erm. 18 EUR \nTickets unter Tel. 037295 2486
URL:https://www.freizeitzentrum-lugau.de/event/heiter-scheitern/
LOCATION:Kultur-und Freizeitzentrum Lugau\, Fabrikgäßchen 8\, Lugau\, 09385\, Deutschland
CATEGORIES:Konzerte, Kabarett und Lesungen
ATTACH;FMTTYPE=image/jpeg:https://www.freizeitzentrum-lugau.de/wp-content/uploads/2023/12/jan_lipowski_2.jpg
END:VEVENT
BEGIN:VEVENT
DTSTART;TZID=Europe/Berlin:20261018T093000
DTEND;TZID=Europe/Berlin:20261018T093000
DTSTAMP:20260420T120308
CREATED:20221117T105140Z
LAST-MODIFIED:20251208T203312Z
UID:1528-1792315800-1792315800@www.freizeitzentrum-lugau.de
SUMMARY:81. Erlebniswanderung - Herbstwanderung
DESCRIPTION:Omis Steinweg im Greifenbachtal \nTreff um 9:30 Uhr am Parkplatz an der Binge\, Bingeweg 21 in Geyer \nAlle Freunde der Natur sind herzlich eingeladen\, die reizvolle Umgebung zu genießen und die Seele baumeln zu lassen. Entdecken Sie Sehenswertes auf den erlebnisreichen Wandertouren. Erkunden Sie bei den Wanderangeboten eine Vielzahl von Ausflugszielen und belohnen Sie sich mit herrlichen Aussichten und Erlebnissen. Die Erlebniswanderungen werden von Wanderführern und Sanitätern begleitet und sind thematisch gut organisierte Gruppenwanderungen mit vielen Besonderheiten und hohem Informationsgehalt. \nDer Kostenbeitrag beträgt 3 Euro pro Person und Wanderung (Kinder bis 12 Jahre wandern kostenlos mit\, Verpflegung nicht inbegriffen). Sanitäter und erfahrene Wanderführer begleiten die Touren. Es ist keine Anmeldung erforderlich. \nUnsere Erlebniswanderungen finden in Kooperation mit der Freien Presse Stollberg statt.
URL:https://www.freizeitzentrum-lugau.de/event/herbstwanderung/
CATEGORIES:Erlebniswanderungen
ATTACH;FMTTYPE=image/jpeg:https://www.freizeitzentrum-lugau.de/wp-content/uploads/2022/11/herbstwanderung.jpg
END:VEVENT
BEGIN:VEVENT
DTSTART;TZID=Europe/Berlin:20261023T160000
DTEND;TZID=Europe/Berlin:20261023T183000
DTSTAMP:20260420T120308
CREATED:20221012T081416Z
LAST-MODIFIED:20251208T203627Z
UID:1467-1792771200-1792780200@www.freizeitzentrum-lugau.de
SUMMARY:Halloween-Party für die ganze Familie
DESCRIPTION:Party auf dem Außengelände\, dazu Lagerfeuer und viele Halloween-Spiele mit Marcel Püschmann\, um 18:30 Uhr gibt es einen Lampionumzug mit den Oelsnitzer Blasmusikanten zur Villa Facius \nKosten: 5 Euro pro Kind (inkl. Verpflegung)
URL:https://www.freizeitzentrum-lugau.de/event/halloween-party-fuer-die-ganze-familie/
LOCATION:Kultur-und Freizeitzentrum Lugau\, Fabrikgäßchen 8\, Lugau\, 09385\, Deutschland
CATEGORIES:Kinder- und Familienveranstaltungen
ATTACH;FMTTYPE=image/jpeg:https://www.freizeitzentrum-lugau.de/wp-content/uploads/2022/10/halloween.jpg
END:VEVENT
END:VCALENDAR